Workbook

Sheet Notes
A1: VicScreen Budget Pro-forma for Originate Games
B5: Disclaimer
B6: VicScreen has taken care to ensure that formulas in this budget are correct. However, errors can be introduced when new categories and lines are added or removed. Please check each line and subtotal calculation to ensure the accuracy of your budget. VicScreen can take no responsibility for the accuracy of your submitted budgets.
B8: Tabs
B9: Summary - This tab contains a high level summary of your Budget. You should check that both cells at the bottom are 0 Budget - this tab contains the detail of Income, Staffing & Expenses and Outgoings.
B12: Completing each section
B13: Summary
B14: Complete the Project Details at the top of the sheet. These will propagate out across the other sheets. If you add any new categories in the Budget tab, ensure you also include the correct sub-total cells here. The Budget Check row will be empty if you've copied them across. The remaining cells will auto populate showing a high level summary of your budget
B17: Budget
B18: Income This is the amount you are asking for from VicScreen, as well as any other contributions or investments in the project including all in-kind, cash, and external investment. For confirmed funding, you should put an 'X' in the appropriate column, otherwise an estimated date for when this will be confirmed. For the Location, you should include whether it is 'Victorian', 'Australian', or 'Non-Australian' to describe the source of the funding. In the VicScreen Contribution box, you should have the amount you are requesting from VicScreen. The VicSpend will automatically calculate from your Stage Budget. Outgoings Staffing This should include the total costs for everyone on your project. The Role column should be a high level description of their activity, and the Detail column can include any additional appropriate detail. The Amount column should include the total amount across VicScreen contribution, Applicant Cash, and Applicant in-kind You can add new categories appropriate to your project here if required. If you do, ensure that you check the sub-total formulas and that you have also added the category into the Summary sheet. Expenses & Outgoings This should include the total costs for any non-staffing expenses and outgoings for your project. As with Staffing, you can add new categories appropriate to your project here and in the Summary sheet - ensuring that you correctly update any formulas as you go. VicSpend The Spend in Victoria column is the amount of this line item that will be spent in Victoria. The Non-VicSpend column will be automatically calculated from this.

Sheet Summary
A1: VicScreen Budget Pro-forma for Originate Games
A3: Project Name:
A4: Company:
A5: Budget Prepared By:
A6: Date:
A8: Summary
A10: Investment
F11: Amount | H11: Spend in Victoria | J11: Notes
C13: Non VicScreen | F13: =Budget!E19 -> 0
C14: VicScreen | F14: =Budget!E22 -> 0
D16: Total | F16: =SUBTOTAL(9,F13:F15) -> 0
A19: Expenses
B21: Staffing | C21: Production | F21: =Budget!E42 -> 0 | H21: =Budget!G42 -> 0
C22: Design | F22: =Budget!E51 -> 0 | H22: =Budget!G51 -> 0
C23: Programming | F23: =Budget!E60 -> 0 | H23: =Budget!G60 -> 0
C24: Art | F24: =Budget!E73 -> 0 | H24: =Budget!G73 -> 0
C25: Audio | F25: =Budget!E81 -> 0 | H25: =Budget!G81 -> 0
C26: Testing | F26: =Budget!E88 -> 0 | H26: =Budget!G88 -> 0
D28: Sub-total | F28: =SUBTOTAL(9,F21:F27) -> 0 | H28: =SUBTOTAL(9,H21:H27) -> 0
B30: Expense & Outgoings | C30: Additional Development Costs | F30: =Budget!E99 -> 0 | H30: =Budget!G99 -> 0
C31: Finance & Legal | F31: =Budget!E107 -> 0 | H31: =Budget!G107 -> 0
C32: Software & Licenses | F32: =Budget!E113 -> 0 | H32: =Budget!G113 -> 0
C33: Office & Administration | F33: =Budget!E124 -> 0 | H33: =Budget!G124 -> 0
C34: Fringes | F34: =Budget!E132 -> 0 | H34: =Budget!G132 -> 0
D36: Sub-total | F36: =SUBTOTAL(9,F30:F35) -> 0 | H36: =SUBTOTAL(9,H30:H35) -> 0
D38: Total | F38: =SUBTOTAL(9,F21:F37) -> 0 | H38: =SUBTOTAL(9,H21:H37) -> 0
C40: Investment minus Expenses | F40: =F16-F38 -> 0 | J40: This value should be zero
C43: Budget Check | F43: =F38-Budget!E137 -> 0 | H43: =H38-Budget!G137 -> 0 | J43: If these values are not zero, you may have added a category and not included it correctly here.

Sheet Budget
A1: VicScreen Budget Pro-forma for Originate Games
A3: Project Name: | B3: =Summary!B3 -> 0
A4: Company: | B4: =Summary!B4 -> 0
A5: Budget Prepared By: | B5: =Summary!B5 -> 0
A6: Date: | B6: =Summary!B6 -> 0
A8: Income
B10: Source | C10: Detail | E10: Amount | G10: Confirmed / Expected Date | H10: Location | J10: Notes
L11: There is no requirement for you to match the requested VicScreen Contribution, but you should include any additional investment to development you will make and account for it in your Outgoings. On the Confirmed / Expected Date column, insert an X if it is confirmed, or the date you expect it to be confirmed. In the Location column, insert whether it is a Victorian, Australian, or Non-Australian source of funding.
B12: Applicant - Cash
B13: Applicant - In Kind
B14: Other Investment(s) (please itemise):
B15: -
B16: -
B17: -
B19: Total | E19: =SUBTOTAL(9,E12:E18) -> 0
E21: Amount | G21: Spend in Victoria
B22: VicScreen Contribution | G22: =Budget!G137 -> 0 | L22: This should be the amount you are asking for from VicScreen. The Spend in Victoria will be calculated from your Stage Budget.
B25: Stage Total | E25: =E22+E19 -> 0 | L25: This will be the sum of your contribution & VicScreen's contribution
A31: Outgoings
A33: Staffing
B34: Role | C34: Detail | E34: Amount | G34: Spend in Victoria | H34: Spend outside of Victoria | J34: Notes
A36: Production | B36: Executive Producer | H36: =E36-G36 -> 0
B37: Producer | H37: =E37-G37 -> 0
B38: Associate Producer | H38: =E38-G38 -> 0
B39: Administration | H39: =E39-G39 -> 0
B40: …edit as required | H40: =E40-G40 -> 0
C42: Sub-total | E42: =SUBTOTAL(9,E36:E41) -> 0 | G42: =SUBTOTAL(9,G36:G41) -> 0 | H42: =SUBTOTAL(9,H36:H41) -> 0
A44: Design | B44: Creative Director | H44: =E44-G44 -> 0
B45: Game Designer | H45: =E45-G45 -> 0
B46: Level Designer | H46: =E46-G46 -> 0
B47: Narrative Designer | H47: =E47-G47 -> 0
B48: Writer | H48: =E48-G48 -> 0
B49: …edit as required | H49: =E49-G49 -> 0
C51: Sub-total | E51: =SUBTOTAL(9,E44:E50) -> 0 | G51: =SUBTOTAL(9,G44:G50) -> 0 | H51: =SUBTOTAL(9,H44:H50) -> 0
A53: Programming | B53: Technical Director | H53: =E53-G53 -> 0
B54: Lead Programmer | H54: =E54-G54 -> 0
B55: Senior Programmer | H55: =E55-G55 -> 0
B56: Programmer | H56: =E56-G56 -> 0
B57: Junior Programmer | H57: =E57-G57 -> 0
B58: …edit as required | H58: =E58-G58 -> 0
...
